BEGIN:VCALENDAR
VERSION:2.0
PRODID:-//DP Pro Event Calendar//3.2.6//EN
BEGIN:VEVENT
UID:759aed94-573d-4471-a1d7-358ccfe93741
DTSTART;TZID=Europe/Berlin;VALUE=DATE:20230714
DTEND;TZID=Europe/Berlin;VALUE=DATE:20230715
DTSTAMP:20251026T023341Z
SUMMARY:Sommerferien
DESCRIPTION:
LOCATION:
URL:
END:VEVENT
END:VCALENDAR