BEGIN:VCALENDAR
VERSION:2.0
PRODID:-//DP Pro Event Calendar//3.2.6//EN
BEGIN:VEVENT
UID:9d63b7a7-9f1c-4185-b9fd-3341695b9218
DTSTART;TZID=Europe/Berlin;VALUE=DATE:20230409
DTEND;TZID=Europe/Berlin;VALUE=DATE:20230410
DTSTAMP:20260420T113638Z
SUMMARY:Osterferien
DESCRIPTION:
LOCATION:
URL:
END:VEVENT
END:VCALENDAR