BEGIN:VCALENDAR
VERSION:2.0
PRODID:-//DP Pro Event Calendar//3.2.6//EN
BEGIN:VEVENT
UID:98e78472-50f2-4d35-b4ca-62c3561f923d
DTSTART;TZID=Europe/Berlin:20211209T150000
DTEND;TZID=Europe/Berlin:20211209T180000
DTSTAMP:20260421T163348Z
SUMMARY:Elternsprechtag
DESCRIPTION:
LOCATION:
URL:
END:VEVENT
END:VCALENDAR